BEGIN:VCALENDAR
VERSION:2.0
PRODID:-//Alumni
CALSCALE:GREGORIAN
METHOD:PUBLISH
X-WR-CALNAME:Alumni
X-ORIGINAL-URL:https://alumni.telkomuniversity.ac.id/event/alumni-gathering-chapter-medan/
X-WR-CALDESC:Alumni Gathering Chapter Medan
BEGIN:VEVENT
DTSTART:20240918T090000
DTEND:20240918T210000
SUMMARY:Alumni Gathering Chapter Medan
DESCRIPTION:
LOCATION:Medan
END:VEVENT
END:VCALENDAR
